BEGIN:VCALENDAR
VERSION:2.0
PRODID:-//Wag Central Dog Boarding, Daycare and Grooming Stratford, CT - ECPv4.7.0.1//NONSGML v1.0//EN
CALSCALE:GREGORIAN
METHOD:PUBLISH
X-WR-CALNAME:Wag Central Dog Boarding, Daycare and Grooming Stratford, CT
X-ORIGINAL-URL:https://www.wagcentralct.com
X-WR-CALDESC:Events for Wag Central Dog Boarding, Daycare and Grooming Stratford, CT
BEGIN:VEVENT
DTSTART;VALUE=DATE:20241212
DTEND;VALUE=DATE:20241213
DTSTAMP:20260425T154407
CREATED:20241118T223211Z
LAST-MODIFIED:20241203T153957Z
UID:9094-1733961600-1734047999@www.wagcentralct.com
SUMMARY:Agility Enrichment Day
DESCRIPTION:\nRoll with it\, baby! We’ll break out the skateboard\, sit on the swing\, and balance on the peanut for Agility Enrichment. \n\n\nAdd on treats today:\nPeanut Butter Kong $7\nFrog Legs $4\nPork or Chicken Donut $8.50\nChicken or Cod jerky $4 \n\nLet’s boost their exercise with a swim for $15. We’ll have extra staff hands on deck to make sure every pup has a comfortable and happy experience. Ears will be cleaned afterward. Add on paddle board for additional $10. Hand blow dry 10 minutes for $10. \n\n\n\n\n  \n
URL:https://www.wagcentralct.com/event/agility-enrichment-2-2-2-2-2-2-2-2-3-2-2-2-2-2-2-2-2-2-2-2-2-2-2-2-2-2-2-2-2-2-2-2-3-2-2-2-2-2-2-2-2-2-2-2-2-2-2-2-2-2-2-2-2-2-2-2-2-2-2-3-2-2-2-2-5-5-2/
LOCATION:Wag Central
CATEGORIES:Daycare,Swim
END:VEVENT
END:VCALENDAR