BEGIN:VCALENDAR
VERSION:2.0
PRODID:-//Wag Central Dog Boarding, Daycare and Grooming Stratford, CT - ECPv4.7.0.1//NONSGML v1.0//EN
CALSCALE:GREGORIAN
METHOD:PUBLISH
X-WR-CALNAME:Wag Central Dog Boarding, Daycare and Grooming Stratford, CT
X-ORIGINAL-URL:https://www.wagcentralct.com
X-WR-CALDESC:Events for Wag Central Dog Boarding, Daycare and Grooming Stratford, CT
BEGIN:VEVENT
DTSTART;VALUE=DATE:20250918
DTEND;VALUE=DATE:20250919
DTSTAMP:20260421T030211
CREATED:20250825T132437Z
LAST-MODIFIED:20250908T143658Z
UID:10311-1758153600-1758239999@www.wagcentralct.com
SUMMARY:Agility Enrichment Day
DESCRIPTION:\nFor Agility Enrichment\, we’re bringing out the A-frame\, dog walk beam\, and hurdles to work on our fitness. \n\n\nAdd on treats today:\nPeanut Butter Kong $7\nFrog Legs $4\nPork or Chicken Donut $8.50\nChicken or Cod jerky $4 \n\nLet’s boost their exercise with a swim for $15. We’ll have extra staff hands on deck to make sure every pup has a comfortable and happy experience. Ears will be cleaned afterward. Add on paddle board for additional $10. Hand blow dry 10 minutes for $10. \n\n\n\n\n  \n
URL:https://www.wagcentralct.com/event/agility-enrichment-day-24/
LOCATION:Wag Central
CATEGORIES:Daycare,Swim
END:VEVENT
END:VCALENDAR