BEGIN:VCALENDAR
VERSION:2.0
PRODID:-//Wag Central Dog Boarding, Daycare and Grooming Stratford, CT - ECPv4.7.0.1//NONSGML v1.0//EN
CALSCALE:GREGORIAN
METHOD:PUBLISH
X-WR-CALNAME:Wag Central Dog Boarding, Daycare and Grooming Stratford, CT
X-ORIGINAL-URL:https://www.wagcentralct.com
X-WR-CALDESC:Events for Wag Central Dog Boarding, Daycare and Grooming Stratford, CT
BEGIN:VEVENT
DTSTART;VALUE=DATE:20250605
DTEND;VALUE=DATE:20250606
DTSTAMP:20260425T115924
CREATED:20250428T141031Z
LAST-MODIFIED:20250527T145757Z
UID:9818-1749081600-1749167999@www.wagcentralct.com
SUMMARY:Agility Enrichment Day
DESCRIPTION:\nTake a walk on the wide side! For Agility Enrichment\, the pups will walk the wide and narrow a-frames. This add-on is an excellent addition to your pup’s physical fitness routine. \n\n\nAdd on treats today:\nPeanut Butter Kong $7\nFrog Legs $4\nPork or Chicken Donut $8.50\nChicken or Cod jerky $4 \n\nLet’s boost their exercise with a swim for $15. We’ll have extra staff hands on deck to make sure every pup has a comfortable and happy experience. Ears will be cleaned afterward. Add on paddle board for additional $10. Hand blow dry 10 minutes for $10. \n\n\n\n\n  \n
URL:https://www.wagcentralct.com/event/agility-enrichment-day-9/
LOCATION:Wag Central
CATEGORIES:Daycare,Swim
END:VEVENT
END:VCALENDAR