BEGIN:VCALENDAR
VERSION:2.0
PRODID:-//Wag Central Dog Boarding, Daycare and Grooming Stratford, CT - ECPv4.7.0.1//NONSGML v1.0//EN
CALSCALE:GREGORIAN
METHOD:PUBLISH
X-WR-CALNAME:Wag Central Dog Boarding, Daycare and Grooming Stratford, CT
X-ORIGINAL-URL:https://www.wagcentralct.com
X-WR-CALDESC:Events for Wag Central Dog Boarding, Daycare and Grooming Stratford, CT
BEGIN:VEVENT
DTSTART;VALUE=DATE:20231101
DTEND;VALUE=DATE:20231102
DTSTAMP:20260425T103519
CREATED:20230920T152418Z
LAST-MODIFIED:20231018T174057Z
UID:7342-1698796800-1698883199@www.wagcentralct.com
SUMMARY:Ice Cream Social & Crafty K9 Day
DESCRIPTION:\n\n\nYou’re the apple of my pie. The sweet pups will pose for an Apple Picking Photoshoot for Crafty Canine day. \nIce Cream Social Wednesdays! Wag is pleased to announce that we will provide a $7\, sugar-free\, dog-friendly scoop of ice cream to daycare participants to help with Hump Day blahs. Sprinkle on Superfly Larvae for $1 more. We’ll have other treats as well\, if this isn’t your pups speed. \nLet’s boost their exercise with a swim for $15. We’ll have extra staff hands on deck to make sure every pup has a comfortable and happy experience. Ears will be cleaned afterward. Add on paddle board for additional $10. Hand blow dry 10 minutes for $10. \n  \n\n\n\n
URL:https://www.wagcentralct.com/event/crafty-canines-2-2-2-2-2-2-2-2-2-2-2-2-2-5-2-2-2-2/
LOCATION:Wag Central
CATEGORIES:Crafts,Daycare,Ice Cream Social
END:VEVENT
END:VCALENDAR