BEGIN:VCALENDAR
VERSION:2.0
PRODID:-//Wag Central Dog Boarding, Daycare and Grooming Stratford, CT - ECPv4.7.0.1//NONSGML v1.0//EN
CALSCALE:GREGORIAN
METHOD:PUBLISH
X-WR-CALNAME:Wag Central Dog Boarding, Daycare and Grooming Stratford, CT
X-ORIGINAL-URL:https://www.wagcentralct.com
X-WR-CALDESC:Events for Wag Central Dog Boarding, Daycare and Grooming Stratford, CT
BEGIN:VEVENT
DTSTART;VALUE=DATE:20240712
DTEND;VALUE=DATE:20240713
DTSTAMP:20260426T000421
CREATED:20240619T142434Z
LAST-MODIFIED:20240701T182805Z
UID:8418-1720742400-1720828799@www.wagcentralct.com
SUMMARY:Friday Fun
DESCRIPTION:\n\n\nTennis racquet-baseball\, anyone? Oh yea\, that’s Friday Fun alright! \nLet’s boost their exercise with a swim for $15. We’ll have extra staff hands on deck to make sure every pup has a comfortable and happy experience. Ears will be cleaned afterward. Add on paddle board for additional $10. Hand blow dry 10 minutes for $10. \n\n  \n\n\n\n
URL:https://www.wagcentralct.com/event/friday-fun-2-2-2-2-2-2-2-2-2-2-2-2-2-5-2-2-2-2-2-2-3-2-2-2-2-2-2-2-3-3-2-2-2-2-2-2-2-2-2-2-2-3-2-2-2-2-2-2-2/
LOCATION:Wag Central
CATEGORIES:Daycare
END:VEVENT
END:VCALENDAR