BEGIN:VCALENDAR
VERSION:2.0
PRODID:-//Wag Central Dog Boarding, Daycare and Grooming Stratford, CT - ECPv4.7.0.1//NONSGML v1.0//EN
CALSCALE:GREGORIAN
METHOD:PUBLISH
X-WR-CALNAME:Wag Central Dog Boarding, Daycare and Grooming Stratford, CT
X-ORIGINAL-URL:https://www.wagcentralct.com
X-WR-CALDESC:Events for Wag Central Dog Boarding, Daycare and Grooming Stratford, CT
BEGIN:VEVENT
DTSTART;VALUE=DATE:20240614
DTEND;VALUE=DATE:20240615
DTSTAMP:20260426T015056
CREATED:20240520T173249Z
LAST-MODIFIED:20240603T202243Z
UID:8289-1718323200-1718409599@www.wagcentralct.com
SUMMARY:Friday Fun
DESCRIPTION:\n\n\nWatermelon Sugar High! In honor of our favorite refreshing summer treat (and Harry Styles) the pups will have Watermelon Races and bob for chunks. \nLet’s boost their exercise with a swim for $15. We’ll have extra staff hands on deck to make sure every pup has a comfortable and happy experience. Ears will be cleaned afterward. Add on paddle board for additional $10. Hand blow dry 10 minutes for $10. \n\n  \n\n\n\n
URL:https://www.wagcentralct.com/event/friday-fun-2-2-2-2-2-2-2-2-2-2-2-2-2-5-2-2-2-2-2-2-3-2-2-2-2-2-2-2-3-3-2-2-2-2-2-2-2-2-2-2-2-3-2-2-2/
LOCATION:Wag Central
CATEGORIES:Daycare
END:VEVENT
END:VCALENDAR